BEGIN:VCALENDAR
VERSION:2.0
PRODID:-//pretix//gaengeviertel//
BEGIN:VTIMEZONE
TZID:Europe/Berlin
BEGIN:STANDARD
DTSTART:20001029T040000
RRULE:FREQ=YEARLY;BYDAY=-1SU;BYMONTH=10
TZNAME:CET
TZOFFSETFROM:+0200
TZOFFSETTO:+0100
END:STANDARD
BEGIN:DAYLIGHT
DTSTART:20000326T030000
RRULE:FREQ=YEARLY;BYDAY=-1SU;BYMONTH=3
TZNAME:CEST
TZOFFSETFROM:+0100
TZOFFSETTO:+0200
END:DAYLIGHT
END:VTIMEZONE
BEGIN:VEVENT
UID:pretix-gaengeviertel-ddp-0@tickets.gaengeviertel.de
DTSTART;TZID=Europe/Berlin:20260425T190000
DTEND;TZID=Europe/Berlin:20260426T050000
DESCRIPTION:Tickets: https://tickets.gaengeviertel.de/gaengeviertel/ddp/\nE
 inlass: 25.04.2026 19:00\nVeranstalter: gaengeviertel
DTSTAMP:20260420T043710Z
SUMMARY:Der Dicke Polizist + Nierenstein +Klostein+ Endstation Chaos + DJ T
 ofuwabohu
END:VEVENT
END:VCALENDAR
