BEGIN:VCALENDAR
VERSION:2.0
PRODID:-//pretix//gaengeviertel//
BEGIN:VTIMEZONE
TZID:Europe/Berlin
BEGIN:STANDARD
DTSTART:20001029T040000
RRULE:FREQ=YEARLY;BYDAY=-1SU;BYMONTH=10
TZNAME:CET
TZOFFSETFROM:+0200
TZOFFSETTO:+0100
END:STANDARD
BEGIN:DAYLIGHT
DTSTART:20000326T030000
RRULE:FREQ=YEARLY;BYDAY=-1SU;BYMONTH=3
TZNAME:CEST
TZOFFSETFROM:+0100
TZOFFSETTO:+0200
END:DAYLIGHT
END:VTIMEZONE
BEGIN:VEVENT
UID:pretix-gaengeviertel-bbdfv2-2@tickets.gaengeviertel.de
DTSTART;TZID=Europe/Berlin:20260307T150000
DTEND;TZID=Europe/Berlin:20260307T210000
DESCRIPTION:Tickets: https://tickets.gaengeviertel.de/gaengeviertel/bbdfv2/
 2/\nEinlass: 07.03.2026 15:00\nVeranstalter: gaengeviertel
DTSTAMP:20260422T102029Z
LOCATION:Fabrique im Gängeviertel\, Valentinskamp 34a\, 20355 Hamburg
SUMMARY:BeyondBorders Das Festival Vol.2 Samstag
END:VEVENT
END:VCALENDAR
